BEGIN:VCALENDAR
VERSION:2.0
PRODID:-//wp-events-plugin.com//7.2.3.1//EN
TZID:America/New_York
X-WR-TIMEZONE:America/New_York
BEGIN:VEVENT
UID:31@saifff.org
DTSTART:20250222T233000Z
DTEND:20250223T010000Z
DTSTAMP:20250202T150950Z
URL:https://saifff.org/events/andhela-ravamidhi-feature-film/
SUMMARY:Andhela Ravamidhi | Feature Film (Telugu with English subtitles) (T
 heatre#1)
DESCRIPTION:\n 	\n\n 	Director: Indrani Davaluri\n\n\n\nA poignant tale of 
 resilience and empowerment\, Pavani explores the transformative power of a
 rt and culture in redefining roles within a patriarchal society\, making i
 t a celebration of courage\, tradition\, and the enduring spirit of femini
 nity.
ATTACH;FMTTYPE=image/jpeg:https://saifff.org/wp-content/uploads/2025/01/ma
 gical-one-life-3.jpg
CATEGORIES:saifff 2025
LOCATION:NCG Cinemas\, 7999 Citrus Park Town Center Mall\, Tampa\, Florida\
 , 33625\, United States
X-APPLE-STRUCTURED-LOCATION;VALUE=URI;X-ADDRESS=7999 Citrus Park Town Cente
 r Mall\, Tampa\, Florida\, 33625\, United States;X-APPLE-RADIUS=100;X-TITL
 E=NCG Cinemas:geo:0,0
END:VEVENT
END:VCALENDAR